BEGIN:VCALENDAR
VERSION:2.0
PRODID:-//3nity.com//3nity CMS//EN
BEGIN:VEVENT
SUMMARY:Sunday Worship Service
UID:2026-07-18-1198747@www.baptistgrace.com
SEQUENCE:0
STATUS:CONFIRMED
DTSTART:20260628T093000
DTEND:20260628T120000
DTSTAMP:20161222T120000
LOCATION: Gospel of Grace Baptist Church, 178 Weir St, Taunton, MA 02780
DESCRIPTION:
URL:http://www.baptistgrace.com
END:VEVENT
END:VCALENDAR
